BEGIN:VCALENDAR
VERSION:2.0
PRODID:-//wp-events-plugin.com//7.2.3.1//EN
TZID:Europe/Paris
X-WR-TIMEZONE:Europe/Paris
BEGIN:VEVENT
UID:22@bizh.bzh
DTSTART;TZID=Europe/Paris:20210921T160000
DTEND;TZID=Europe/Paris:20210921T190000
DTSTAMP:20210921T010405Z
URL:https://www.bizh.bzh/events/super-marche-bio/
SUMMARY:Super marché bio
DESCRIPTION:\n\n\n\n\n\n\nSuper marché BIO d'automne\n&nbsp\;\nmardi 21 se
 ptembre de 16h à 19hplace du Loc à Saint-Avé\n&nbsp\;\nAu programme : 
 chant\, animations ludiques et musicales\, stands de producteurs et d'arti
 sans.\nLa Bizh y sera présente avec un comptoir d'échanges.N'hésitez pa
 s à nous y rencontrer !\n\n\n\n\n\n\n
ATTACH;FMTTYPE=image/jpeg:https://www.bizh.bzh/wp-content/uploads/2021/09/
 supermarchebio-600x848-1.jpg
CATEGORIES:Stand de l'Asso
LOCATION:place du Loc\, place du Loc\, place du Loc à Saint-Avé\, France
X-APPLE-STRUCTURED-LOCATION;VALUE=URI;X-ADDRESS=place du Loc\, place du Loc
  à Saint-Avé\, France;X-APPLE-RADIUS=100;X-TITLE=place du Loc:geo:0,0
END:VEVENT
BEGIN:VTIMEZONE
TZID:Europe/Paris
X-LIC-LOCATION:Europe/Paris
BEGIN:DAYLIGHT
DTSTART:20210328T030000
TZOFFSETFROM:+0100
TZOFFSETTO:+0200
TZNAME:CEST
END:DAYLIGHT
END:VTIMEZONE
END:VCALENDAR