BEGIN:VCALENDAR
VERSION:2.0
PRODID:-//wp-events-plugin.com//7.2.3.1//EN
TZID:Europe/Paris
X-WR-TIMEZONE:Europe/Paris
BEGIN:VEVENT
UID:9@bizh.bzh
DTSTART;TZID=Europe/Paris:20190708T183000
DTEND;TZID=Europe/Paris:20190708T200000
DTSTAMP:20190708T172230Z
URL:https://www.bizh.bzh/events/reunion-asso-mlk-gwened-3/
SUMMARY:Réunion Asso MLK Gwened
DESCRIPTION:L'association se réunit 2 fois par mois pour statuer sur les d
 emandes d'agréments\, organiser les actions et imaginer les prochains év
 énements.\n\nCes réunions peuvent être l'occasion d'adhérer et de rejo
 indre les forces vives de la Monnaie Locale du Pays de Vannes\,\nn'hésite
 z pas à pousser la porte !
CATEGORIES:Réunions de l'Asso
LOCATION:Maison des Associations\, Vannes\, Guillaume Le Bartz\, Vannes\, 5
 6000\, France
X-APPLE-STRUCTURED-LOCATION;VALUE=URI;X-ADDRESS=Guillaume Le Bartz\, Vannes
 \, 56000\, France;X-APPLE-RADIUS=100;X-TITLE=Maison des Associations\, Van
 nes:geo:0,0
END:VEVENT
BEGIN:VTIMEZONE
TZID:Europe/Paris
X-LIC-LOCATION:Europe/Paris
BEGIN:DAYLIGHT
DTSTART:20190331T030000
TZOFFSETFROM:+0100
TZOFFSETTO:+0200
TZNAME:CEST
END:DAYLIGHT
END:VTIMEZONE
END:VCALENDAR