BEGIN:VCALENDAR
VERSION:2.0
PRODID:-//wp-events-plugin.com//7.2.3.1//EN
TZID:Europe/Paris
X-WR-TIMEZONE:Europe/Paris
BEGIN:VEVENT
UID:16@bizh.bzh
DTSTART;TZID=Europe/Paris:20200126T140000
DTEND;TZID=Europe/Paris:20200126T160000
DTSTAMP:20200110T124851Z
URL:https://www.bizh.bzh/events/projection-debat/
SUMMARY:Projection - Débat
DESCRIPTION:Nous organisons une projection/débat sur le thème des monnaie
 s locales complémentaires et citoyennes au FSL de cette année.\n\n\nComm
 ent fonctionnent-elles ? Qu’apportent-elles à l'économie locale ? En q
 uoi sont-elles un outil au service de la transition ? Quelles sont leurs a
 vantages\, leurs limites ? Comment peuvent-elles évoluer ?\n\nIl existe d
 e nombreuses monnaies locales dans le monde entier et en France. Dans le M
 orbihan\, il y en a 4 en circulation : Le Galais à Ploërmel\, La Bizh à
  Vannes\, Le Segal à Lorient et L'Ourse à La Roche-Bernard/Muzillac/Ques
 tembert. Un projet est en réflexion à Auray. Après la projection\, les 
 acteurs de ces monnaies seront là pour débattre avec vous autour de ces 
 questions.\n\nhttps://fsl56.org/2020/programme 
ATTACH;FMTTYPE=image/jpeg:https://www.bizh.bzh/wp-content/uploads/2020/01/
 FSL2020.png
CATEGORIES:Réunions de l'Asso,Stand de l'Asso
END:VEVENT
BEGIN:VTIMEZONE
TZID:Europe/Paris
X-LIC-LOCATION:Europe/Paris
BEGIN:STANDARD
DTSTART:20191027T020000
TZOFFSETFROM:+0200
TZOFFSETTO:+0100
TZNAME:CET
END:STANDARD
END:VTIMEZONE
END:VCALENDAR