BEGIN:VCALENDAR
VERSION:2.0
PRODID:-//wp-events-plugin.com//7.2.3.1//EN
TZID:Europe/Paris
X-WR-TIMEZONE:Europe/Paris
BEGIN:VEVENT
UID:1@bizh.bzh
DTSTART;TZID=Europe/Paris:20180127T100000
DTEND;TZID=Europe/Paris:20180127T180000
DTSTAMP:20180121T182154Z
URL:https://www.bizh.bzh/events/lancement-de-la-bizh/
SUMMARY:Lancement de la Bizh
DESCRIPTION:\nLancement de la Bizh lors du Forum Social Local\nLe lien entr
 e le FSL 56 et la Bizh est étroit car c'est lors d'une réunion d'organis
 ation du FSL de septembre 2015 qu'a été prise la décision de lancer le 
 projet de monnaie locale complémentaire. Chaque année depuis janvier 201
 6\, l'association MLK-Gwened qui porte le projet\, a proposé une animatio
 n-débat autour de la monnaie locale. En janvier 2017\, les participants a
 u FSL ont choisi par vote le nom de la monnaie : Bizh.\n\nCette année\, l
 e FSL fête ses 10 ans et MLK-Gwened met la Bizh en circulation samedi 27 
 janvier 2018.\n\nAu programme...\n10 h à 12 h : animation de lancement à
  la maison des associations de Séné\navec :\n\n 	une présentation de la
  Bizh et de MLK-Gwened\n 	les exposés suivants :\n\n 	Produire et acheter
  ‘local’\, pourquoi tout le monde y gagne (Raphaël Souchier)\,\n 	La 
 résilience du territoire et la consomm'action nécessaire à l'épanouiss
 ement de l'agriculture paysanne dans un objectif d'autonomie alimentaire l
 ocale\,\n 	Expérience de MLCC en circulation : le Galais dans le Pays de 
 Ploërmel \;\n\n\n\n 	questions-réponses &amp\; débat \;\n 	le lancement
  : adhésions de particuliers\, premiers échanges et paiements possibles 
 en Bizh (librairie\, gâteaux\, repas...) sur le FSL.\n\n10 à 18 h : stan
 d à la cantine\nAdhésions de particuliers\, comptoir d'échange.\n\nLes 
 paiements en Bizh seront acceptés sur le forum (restauration\, buvette\, 
 librairie).\nLe Forum Social Local 2018\n\n\nLe Forum Social Local du Morb
 ihan\, déclinaison locale du Forum Social Mondial\, rassemble une quarant
 aine d’associations et organisations pour proposer de faire de la politi
 que autrement\, fédérer la société civile progressiste et faire émerg
 er des actions alternatives\, pour un monde centré sur l’être humain e
 t non sur le seul profit.\n\nChaque dernier week-end de janvier depuis 10 
 ans\, le FSL 56 est un moment de rencontres et d'échanges\, organisé pou
 r permettre des réflexions de fond\, des débats d’idées\, des échang
 es d’expériences\, l’élaboration de projets d’actions\, la formula
 tion de propositions…\nLes associations organisatrices seront présentes
  et tiendront des STANDS le samedi 27 janvier à Séné.\n\nUne EXPOSITION
 \, des FILMS\, CONFÉRENCES et DÉBATS\, ATELIERS et GRATIFERIA sont propo
 sés du vendredi 19 au dimanche 28 janvier sur quatre communes du Morbihan
  : Pontivy\, Séné\, Theix-Noyalo et Vannes.\n\nCette année\, les thème
 s sont :\n\n 	Forum Social Mondial et altermondialisme\n 	Les lanceurs d'a
 lerte\n 	Se libérer de la menace nucléaire\n 	Grands Projets Inutiles et
  Imposés\n 	Le Travail aujourd'hui\n 	L'Habitat participatif\n 	Agricultu
 re paysanne et véganisme\n 	Palestine-Israël : pour une paix juste\n 	Le
 s migrants aujourd'hui chez nous\n 	Lancement de la Bizh\, monnaie locale\
 n\nLe programme complet est sur www.fsl56.org/2018/programme.\n\nRestaurat
 ion sur place.\nEntrez libres !\n\nMerci de bien vouloir diffuser notre in
 vitation.\nLe collectif du FSL56 : contact @ fsl56.org\, www.fsl56.org.\n 
 Un autre monde est nécessaire. Ensemble\, il devient possible.
LOCATION:Maison des associations\, Séné\, rue du 19 mars 1962\, Séné\, 
 France
X-APPLE-STRUCTURED-LOCATION;VALUE=URI;X-ADDRESS=rue du 19 mars 1962\, Sén
 é\, France;X-APPLE-RADIUS=100;X-TITLE=Maison des associations\, Séné:ge
 o:0,0
END:VEVENT
BEGIN:VTIMEZONE
TZID:Europe/Paris
X-LIC-LOCATION:Europe/Paris
BEGIN:STANDARD
DTSTART:20171029T020000
TZOFFSETFROM:+0200
TZOFFSETTO:+0100
TZNAME:CET
END:STANDARD
END:VTIMEZONE
END:VCALENDAR