BEGIN:VCALENDAR
VERSION:2.0
PRODID:-//wp-events-plugin.com//7.2.3.1//EN
TZID:Europe/Paris
X-WR-TIMEZONE:Europe/Paris
BEGIN:VEVENT
UID:8@bizh.bzh
DTSTART;TZID=Europe/Paris:20190420T150000
DTEND;TZID=Europe/Paris:20190420T180000
DTSTAMP:20190405T122135Z
URL:https://www.bizh.bzh/events/comptoir-ephemere-au-dedale-cafe-2004/
SUMMARY:Comptoir Éphémère au Dédale Café
DESCRIPTION:\n\nRetrouvez l’association tous les samedi après-midi au D
 édale Café\,\n8 rue du commerce sur la rive gauche du port de Vannes!\n\
 nL’occasion d’adhérer à MLK\, de découvrir la Monnaie Locale et d
 ’échanger vos euros contre des Bizh. De 15h à 18h chaque samedi au moi
 s d’avril\, et on espère encore après…\n\nPour tenir ces permanences
  sur la distance nous appelons les adhérents à participer\, \n3h le same
 di après-midi au bistrot le plus arty du quartier pour défendre nos vale
 urs et convaincre les citoyens de se saisir de cet outil\, ça vous dit?\n
 \nContactez-nous pour vous inscrire ou venez nous rencontrer\, ici ou à u
 ne réunion de travail à la Maison des Associations! ( un lundi sur deux\
 , planning ici)
CATEGORIES:Stand de l'Asso
END:VEVENT
BEGIN:VTIMEZONE
TZID:Europe/Paris
X-LIC-LOCATION:Europe/Paris
BEGIN:DAYLIGHT
DTSTART:20190331T030000
TZOFFSETFROM:+0100
TZOFFSETTO:+0200
TZNAME:CEST
END:DAYLIGHT
END:VTIMEZONE
END:VCALENDAR