BEGIN:VCALENDAR
VERSION:2.0
PRODID:-//wp-events-plugin.com//7.2.3.1//EN
TZID:Europe/Paris
X-WR-TIMEZONE:Europe/Paris
BEGIN:VEVENT
UID:30@bizh.bzh
DTSTART;TZID=Europe/Paris:20230204T100000
DTEND;TZID=Europe/Paris:20230204T190000
DTSTAMP:20230123T111743Z
URL:https://www.bizh.bzh/events/assemblee-pleniere-2023/
SUMMARY:Assemblée plénière 2023
DESCRIPTION:L’Assemblée plénière de l’association MLK-GWENED qui por
 te la Bizh se tiendra samedi 4 février 2023 de 10h à 12h dans la salle j
 aune (maison des associations) à Séné à l'occasion du Forum Social Loc
 al. Elle est ouverte à toute personne intéressée\, adhérente ou non.\n
 La Bizh au Forum Social Local\nToute la journée\, la Bizh sera présente 
 au FSL avec un stand / comptoir d'échanges.\n\nLes paiements en Bizh sero
 nt possibles au FSL à la buvette\, aux repas et à la librairie.\n\nNous 
 comptons sur les adhérent.e.s pour acquitter leur cotisation annuelle car
  l'association ne vit actuellement que grâce aux cotisations.\nAssemblée
  plénière de 10h à 12h\n\n\n 	Présentation du rapport d'activités et 
 du bilan financier 2022 \;&nbsp\;\n 	Question 1 : souhaitez-vous changer l
 e nom de l'association « MLK-Gwened » en « La Bizh » afin de rendre l'
 association plus visible ?&nbsp\;\n 	Question 2 : mise à jour des statuts
  pour tenir compte de l'évolution de l'association \;&nbsp\;\n 	Question 
 3 : mise à jour du règlement intérieur \;&nbsp\;\n 	Renouvellement du C
 onseil d’Animation : n'hésitez pas à vous présenter !&nbsp\;\n 	Quest
 ions diverses / débat : c'est le moment de vous exprimer !&nbsp\;\n
ATTACH;FMTTYPE=image/jpeg:https://www.bizh.bzh/wp-content/uploads/2023/01/
 AssembleePleniere-2023-600x424-1-e1674459223754.png
CATEGORIES:Assemblée Plénière,Stand de l'Asso,Vie de l'association
LOCATION:Maison des associations\, Séné\, rue du 19 mars 1962\, Séné\, 
 France
X-APPLE-STRUCTURED-LOCATION;VALUE=URI;X-ADDRESS=rue du 19 mars 1962\, Sén
 é\, France;X-APPLE-RADIUS=100;X-TITLE=Maison des associations\, Séné:ge
 o:0,0
END:VEVENT
BEGIN:VTIMEZONE
TZID:Europe/Paris
X-LIC-LOCATION:Europe/Paris
BEGIN:STANDARD
DTSTART:20221030T020000
TZOFFSETFROM:+0200
TZOFFSETTO:+0100
TZNAME:CET
END:STANDARD
END:VTIMEZONE
END:VCALENDAR